BEGIN:VCALENDAR
VERSION:2.0
PRODID:-//hacksw/handcal//NONSGML v1.0//EN
BEGIN:VEVENT
DTSTART:20260420
DTEND:20260426
LOCATION:Commune de Monswiller
SUMMARY:Arrêté portant règlementation, à titre temporaire, de la circulation rue Firth
URL:https://www.monswiller.fr/Agenda/Arrete-portant-reglementation-titre-temporaire-circulation-rue-Firth-01031.html
END:VEVENT
END:VCALENDAR