BEGIN:VCALENDAR
VERSION:2.0
PRODID:-//hacksw/handcal//NONSGML v1.0//EN
BEGIN:VEVENT
DTSTART:20250904
DTEND:20260628
LOCATION:Commune de Monswiller
SUMMARY:Programme UD CSF 67 parentalité
URL:https://www.monswiller.fr/Agenda/Programme-UD-CSF-67-parentalite-00776.html
END:VEVENT
END:VCALENDAR